BEGIN:VCALENDAR
VERSION:2.0
PRODID:-//2diabeat - ECPv6.15.18//NONSGML v1.0//EN
CALSCALE:GREGORIAN
METHOD:PUBLISH
X-ORIGINAL-URL:https://2diabeat.nl
X-WR-CALDESC:Evenementen voor 2diabeat
REFRESH-INTERVAL;VALUE=DURATION:PT1H
X-Robots-Tag:noindex
X-PUBLISHED-TTL:PT1H
BEGIN:VTIMEZONE
TZID:Europe/Amsterdam
BEGIN:DAYLIGHT
TZOFFSETFROM:+0100
TZOFFSETTO:+0200
TZNAME:CEST
DTSTART:20220327T010000
END:DAYLIGHT
BEGIN:STANDARD
TZOFFSETFROM:+0200
TZOFFSETTO:+0100
TZNAME:CET
DTSTART:20221030T010000
END:STANDARD
BEGIN:DAYLIGHT
TZOFFSETFROM:+0100
TZOFFSETTO:+0200
TZNAME:CEST
DTSTART:20230326T010000
END:DAYLIGHT
BEGIN:STANDARD
TZOFFSETFROM:+0200
TZOFFSETTO:+0100
TZNAME:CET
DTSTART:20231029T010000
END:STANDARD
BEGIN:DAYLIGHT
TZOFFSETFROM:+0100
TZOFFSETTO:+0200
TZNAME:CEST
DTSTART:20240331T010000
END:DAYLIGHT
BEGIN:STANDARD
TZOFFSETFROM:+0200
TZOFFSETTO:+0100
TZNAME:CET
DTSTART:20241027T010000
END:STANDARD
END:VTIMEZONE
BEGIN:VEVENT
DTSTART;TZID=Europe/Amsterdam:20230313T190000
DTEND;TZID=Europe/Amsterdam:20230313T200000
DTSTAMP:20260422T190731
CREATED:20230209T094656Z
LAST-MODIFIED:20230216T180354Z
UID:4402-1678734000-1678737600@2diabeat.nl
SUMMARY:Webinar – Leefstijlcoaches\, doe mee met 2diabeat!
DESCRIPTION:2diabeat heeft een integrale aanpak ontwikkeld om in de wijk een gezondere leefstijl te realiseren.\nApril 2022 gaf 2diabeat een webinar over hoe hun programma er uit ziet. Inmiddels is het programma op veel meer plekken in Nederland actief en lukt het om in 50% van de gevallen financiering te regelen voor de werkzaamheden van de aanjagers in de uitvoeringsfase (waarbij van sommige van de andere 50% aanjagers het ook bewust vrijwillig doen). Een BLCN leefstijlcoach kan heel goed de rol van aanjager vervullen. \n2diabeat kan jou als leefstijlcoach ondersteunen bij het hele traject van verkennen en uitvoeren. \n  \nHet programma 2diabeat zet zich in om de opmars van diabetes type 2 te stoppen. Dat is belangrijk\, want al ruim 1\,2 miljoen mensen hebben diabetes type 2 en dat aantal stijgt hard. Om echt een verschil te kunnen maken\, kent het programma een wijkgerichte aanpak. Daarin werken lokale professionals en inwoners samen aan een gezonde wijk. Ondertussen is 2diabeat twee jaar actief in Nederland en al meer dan 25 wijken hebben zich aangesloten bij het programma. \n  \nMet steun vanuit het Nationaal Preventieakkoord kunnen we het komende jaar nog meer wijken gaan ondersteunen. \nNet zoals de inzet van diëtisten\, fysiotherapeuten en huisartsen\, is de inzet van leefstijlcoaches binnen 2diabeat onmisbaar. We nodigen jullie daarom graag uit om deel te nemen aan dit webinar om kennis te maken met het 2diabeat programma\, de ondersteuning die we bieden en hoe je zelf mee zou kunnen doen. \nDaarbij zal Susanne Renkema – lokale aanjager in Kortenhoef/Nederhorst\, Wijdemeren – haar ervaringen met 2diabeat met jullie delen. \n  \nGeïnteresseerd in deelname aan het webinar? \nMeld je dan aan via deze aanmeldpagina. \n  \n 
URL:https://2diabeat.nl/evenement/2diabeat-ga-jij-aan-de-slag-in-jouw-wijk-of-buurt/
LOCATION:online
ATTACH;FMTTYPE=image/jpeg:https://2diabeat.nl/wp-content/uploads/webinar-blcn-13-mrt-2023.jpg
END:VEVENT
END:VCALENDAR